BEGIN:VCALENDAR
PRODID:-//www.allstarsnetball.com.au//EN
VERSION:2.0
METHOD:PUBLISH
BEGIN:VEVENT
DTSTART;TZID=America/New_York:20170128T090000
DTEND;TZID=America/New_York:20170128T130000
URL:http://www.allstarsnetball.com.au/calendar/
SUMMARY:Allstars Sign On Day
END:VEVENT
END:VCALENDAR